Package: bayNorm Version: 1.29.0 Command: /Library/Frameworks/R.framework/Resources/bin/R CMD build --keep-empty-dirs --no-resave-data bayNorm StartedAt: 2025-11-12 15:50:53 -0500 (Wed, 12 Nov 2025) EndedAt: 2025-11-12 15:51:18 -0500 (Wed, 12 Nov 2025) EllapsedTime: 24.3 seconds RetCode: 0 Status: OK PackageFile: bayNorm_1.29.0.tar.gz PackageFileSize: 1.526 MiB