Package: bayNorm Version: 1.29.0 Command: rm -rf bayNorm.buildbin-libdir && mkdir bayNorm.buildbin-libdir && /Users/biocbuild/BBS/utils/build-universal.sh bayNorm_1.29.0.tar.gz /Library/Frameworks/R.framework/Resources/bin/R bayNorm.buildbin-libdir StartedAt: 2025-11-13 23:28:39 -0500 (Thu, 13 Nov 2025) EndedAt: 2025-11-13 23:28:59 -0500 (Thu, 13 Nov 2025) EllapsedTime: 19.6 seconds RetCode: 0 Status: OK PackageFile: bayNorm_1.29.0.tgz PackageFileSize: 478.5 KiB