Package: batchelor Version: 1.27.0 Command: /home/biocbuild/bbs-3.23-bioc/R/bin/R CMD INSTALL batchelor StartedAt: 2025-11-14 15:53:37 -0500 (Fri, 14 Nov 2025) EndedAt: 2025-11-14 15:54:18 -0500 (Fri, 14 Nov 2025) EllapsedTime: 40.9 seconds RetCode: 0 Status: OK