Package: batchelor Version: 1.27.0 Command: /home/biocbuild/bbs-3.23-bioc/R/bin/R CMD build --keep-empty-dirs --no-resave-data batchelor StartedAt: 2025-11-13 16:20:27 -0500 (Thu, 13 Nov 2025) EndedAt: 2025-11-13 16:23:43 -0500 (Thu, 13 Nov 2025) EllapsedTime: 196.2 seconds RetCode: 0 Status: OK PackageFile: batchelor_1.27.0.tar.gz PackageFileSize: 1.95 MiB