Package: batchelor Version: 1.27.0 Command: /Library/Frameworks/R.framework/Resources/bin/R CMD INSTALL batchelor StartedAt: 2025-11-13 15:30:59 -0500 (Thu, 13 Nov 2025) EndedAt: 2025-11-13 15:31:15 -0500 (Thu, 13 Nov 2025) EllapsedTime: 15.4 seconds RetCode: 0 Status: OK