Package: batchelor Version: 1.27.0 Command: rm -rf batchelor.buildbin-libdir && mkdir batchelor.buildbin-libdir && /Users/biocbuild/BBS/utils/build-universal.sh batchelor_1.27.0.tar.gz /Library/Frameworks/R.framework/Resources/bin/R batchelor.buildbin-libdir StartedAt: 2025-11-13 23:28:33 -0500 (Thu, 13 Nov 2025) EndedAt: 2025-11-13 23:28:54 -0500 (Thu, 13 Nov 2025) EllapsedTime: 20.6 seconds RetCode: 0 Status: OK PackageFile: batchelor_1.27.0.tgz PackageFileSize: 2.317 MiB