Package: batchCorr Version: 1.1.0 Command: /home/biocbuild/bbs-3.23-bioc/R/bin/R CMD INSTALL batchCorr StartedAt: 2025-11-13 15:21:34 -0500 (Thu, 13 Nov 2025) EndedAt: 2025-11-13 15:21:54 -0500 (Thu, 13 Nov 2025) EllapsedTime: 20.7 seconds RetCode: 0 Status: OK