Package: batchCorr Version: 1.1.0 Command: /home/biocbuild/bbs-3.23-bioc/R/bin/R CMD build --keep-empty-dirs --no-resave-data batchCorr StartedAt: 2025-11-11 16:23:34 -0500 (Tue, 11 Nov 2025) EndedAt: 2025-11-11 16:25:46 -0500 (Tue, 11 Nov 2025) EllapsedTime: 131.2 seconds RetCode: 0 Status: OK PackageFile: batchCorr_1.1.0.tar.gz PackageFileSize: 900.6 KiB