Package: batchCorr Version: 1.1.0 Command: /Library/Frameworks/R.framework/Resources/bin/R CMD INSTALL batchCorr StartedAt: 2025-11-12 15:26:22 -0500 (Wed, 12 Nov 2025) EndedAt: 2025-11-12 15:26:31 -0500 (Wed, 12 Nov 2025) EllapsedTime: 8.5 seconds RetCode: 0 Status: OK