Package: batchCorr Version: 1.1.0 Command: /Library/Frameworks/R.framework/Resources/bin/R CMD build --keep-empty-dirs --no-resave-data batchCorr StartedAt: 2025-11-12 15:50:44 -0500 (Wed, 12 Nov 2025) EndedAt: 2025-11-12 15:51:36 -0500 (Wed, 12 Nov 2025) EllapsedTime: 51.7 seconds RetCode: 0 Status: OK PackageFile: batchCorr_1.1.0.tar.gz PackageFileSize: 900.7 KiB