Package: basilisk Version: 1.23.0 Command: /home/biocbuild/bbs-3.23-bioc/R/bin/R CMD check --install=check:basilisk.install-out.txt --library=/home/biocbuild/bbs-3.23-bioc/R/site-library --timings basilisk_1.23.0.tar.gz StartedAt: 2025-11-14 21:14:50 -0500 (Fri, 14 Nov 2025) EndedAt: 2025-11-14 21:21:11 -0500 (Fri, 14 Nov 2025) EllapsedTime: 380.4 seconds RetCode: 0 Status: OK CheckDir: basilisk.Rcheck Warnings: 0