Package: basilisk Version: 1.23.0 Command: /Library/Frameworks/R.framework/Resources/bin/R CMD build --keep-empty-dirs --no-resave-data basilisk StartedAt: 2025-11-12 15:50:41 -0500 (Wed, 12 Nov 2025) EndedAt: 2025-11-12 15:51:54 -0500 (Wed, 12 Nov 2025) EllapsedTime: 72.9 seconds RetCode: 0 Status: OK PackageFile: basilisk_1.23.0.tar.gz PackageFileSize: 261 KiB