Package: basilisk Version: 1.23.0 Command: rm -rf basilisk.buildbin-libdir && mkdir basilisk.buildbin-libdir && /Users/biocbuild/BBS/utils/build-universal.sh basilisk_1.23.0.tar.gz /Library/Frameworks/R.framework/Resources/bin/R basilisk.buildbin-libdir StartedAt: 2025-11-12 20:51:33 -0500 (Wed, 12 Nov 2025) EndedAt: 2025-11-12 20:51:36 -0500 (Wed, 12 Nov 2025) EllapsedTime: 3.1 seconds RetCode: 0 Status: OK PackageFile: basilisk_1.23.0.tgz PackageFileSize: 317.3 KiB