Package: basilisk.utils Version: 1.23.1 Command: /home/biocbuild/bbs-3.23-bioc/R/bin/R CMD INSTALL basilisk.utils StartedAt: 2025-11-11 15:08:25 -0500 (Tue, 11 Nov 2025) EndedAt: 2025-11-11 15:08:35 -0500 (Tue, 11 Nov 2025) EllapsedTime: 9.8 seconds RetCode: 0 Status: OK