Package: basilisk.utils Version: 1.23.1 Command: /home/biocbuild/bbs-3.23-bioc/R/bin/R CMD check --install=check:basilisk.utils.install-out.txt --library=/home/biocbuild/bbs-3.23-bioc/R/site-library --timings basilisk.utils_1.23.1.tar.gz StartedAt: 2025-11-13 21:16:20 -0500 (Thu, 13 Nov 2025) EndedAt: 2025-11-13 21:17:55 -0500 (Thu, 13 Nov 2025) EllapsedTime: 95.1 seconds RetCode: 0 Status: OK CheckDir: basilisk.utils.Rcheck Warnings: 0