Package: basilisk.utils Version: 1.23.1 Command: /Library/Frameworks/R.framework/Resources/bin/R CMD INSTALL basilisk.utils StartedAt: 2025-11-12 15:17:18 -0500 (Wed, 12 Nov 2025) EndedAt: 2025-11-12 15:17:23 -0500 (Wed, 12 Nov 2025) EllapsedTime: 5.4 seconds RetCode: 0 Status: OK