Package: basilisk.utils Version: 1.23.1 Command: /Library/Frameworks/R.framework/Resources/bin/R CMD check --install=check:basilisk.utils.install-out.txt --library=/Library/Frameworks/R.framework/Resources/library --no-vignettes --timings basilisk.utils_1.23.1.tar.gz StartedAt: 2025-11-12 18:01:50 -0500 (Wed, 12 Nov 2025) EndedAt: 2025-11-12 18:03:12 -0500 (Wed, 12 Nov 2025) EllapsedTime: 82.1 seconds RetCode: 0 Status: OK CheckDir: basilisk.utils.Rcheck Warnings: 0