Package: basilisk.utils Version: 1.23.1 Command: /Library/Frameworks/R.framework/Resources/bin/R CMD build --keep-empty-dirs --no-resave-data basilisk.utils StartedAt: 2025-11-12 15:50:41 -0500 (Wed, 12 Nov 2025) EndedAt: 2025-11-12 15:50:44 -0500 (Wed, 12 Nov 2025) EllapsedTime: 3.0 seconds RetCode: 0 Status: OK PackageFile: basilisk.utils_1.23.1.tar.gz PackageFileSize: 229.5 KiB