Package: basilisk.utils Version: 1.23.1 Command: rm -rf basilisk.utils.buildbin-libdir && mkdir basilisk.utils.buildbin-libdir && /Users/biocbuild/BBS/utils/build-universal.sh basilisk.utils_1.23.1.tar.gz /Library/Frameworks/R.framework/Resources/bin/R basilisk.utils.buildbin-libdir StartedAt: 2025-11-13 23:28:32 -0500 (Thu, 13 Nov 2025) EndedAt: 2025-11-13 23:28:34 -0500 (Thu, 13 Nov 2025) EllapsedTime: 2.0 seconds RetCode: 0 Status: OK PackageFile: basilisk.utils_1.23.1.tgz PackageFileSize: 257.6 KiB