Package: basecallQC Version: 1.35.0 Command: /home/biocbuild/bbs-3.23-bioc/R/bin/R CMD INSTALL basecallQC StartedAt: 2025-11-14 15:52:04 -0500 (Fri, 14 Nov 2025) EndedAt: 2025-11-14 15:52:58 -0500 (Fri, 14 Nov 2025) EllapsedTime: 54.6 seconds RetCode: 0 Status: OK