Package: basecallQC Version: 1.35.0 Command: /Library/Frameworks/R.framework/Resources/bin/R CMD INSTALL basecallQC StartedAt: 2025-11-14 15:26:35 -0500 (Fri, 14 Nov 2025) EndedAt: 2025-11-14 15:26:56 -0500 (Fri, 14 Nov 2025) EllapsedTime: 21.0 seconds RetCode: 0 Status: OK