Package: basecallQC Version: 1.35.0 Command: /Library/Frameworks/R.framework/Resources/bin/R CMD build --keep-empty-dirs --no-resave-data basecallQC StartedAt: 2025-11-14 15:41:15 -0500 (Fri, 14 Nov 2025) EndedAt: 2025-11-14 15:41:49 -0500 (Fri, 14 Nov 2025) EllapsedTime: 34.4 seconds RetCode: 0 Status: OK PackageFile: basecallQC_1.35.0.tar.gz PackageFileSize: 1.526 MiB