Package: basecallQC Version: 1.35.0 Command: rm -rf basecallQC.buildbin-libdir && mkdir basecallQC.buildbin-libdir && /Users/biocbuild/BBS/utils/build-universal.sh basecallQC_1.35.0.tar.gz /Library/Frameworks/R.framework/Resources/bin/R basecallQC.buildbin-libdir StartedAt: 2025-11-14 23:23:29 -0500 (Fri, 14 Nov 2025) EndedAt: 2025-11-14 23:23:56 -0500 (Fri, 14 Nov 2025) EllapsedTime: 26.6 seconds RetCode: 0 Status: OK PackageFile: basecallQC_1.35.0.tgz PackageFileSize: 1.261 MiB