Package: basecallQC Version: 1.35.0 Maintainer: Thomas Carroll MaintainerEmail: tc.infomatics at gmail.com git_url: https://git.bioconductor.org/packages/basecallQC git_branch: devel git_last_commit: f54574a git_last_commit_date: 2025-10-29 10:38:02 -0500 (Wed, 29 Oct 2025)