Package: barcodetrackR Version: 1.19.0 Command: /Library/Frameworks/R.framework/Resources/bin/R CMD INSTALL barcodetrackR StartedAt: 2025-11-23 15:12:13 -0500 (Sun, 23 Nov 2025) EndedAt: 2025-11-23 15:12:24 -0500 (Sun, 23 Nov 2025) EllapsedTime: 10.8 seconds RetCode: 0 Status: OK