Package: barcodetrackR Version: 1.19.0 Command: /Library/Frameworks/R.framework/Resources/bin/R CMD build --keep-empty-dirs --no-resave-data barcodetrackR StartedAt: 2025-11-23 15:41:44 -0500 (Sun, 23 Nov 2025) EndedAt: 2025-11-23 15:42:15 -0500 (Sun, 23 Nov 2025) EllapsedTime: 31.3 seconds RetCode: 0 Status: OK PackageFile: barcodetrackR_1.19.0.tar.gz PackageFileSize: 3.562 MiB