Package: barcodetrackR Version: 1.19.0 Command: rm -rf barcodetrackR.buildbin-libdir && mkdir barcodetrackR.buildbin-libdir && /Users/biocbuild/BBS/utils/build-universal.sh barcodetrackR_1.19.0.tar.gz /Library/Frameworks/R.framework/Resources/bin/R barcodetrackR.buildbin-libdir StartedAt: 2025-11-23 23:26:23 -0500 (Sun, 23 Nov 2025) EndedAt: 2025-11-23 23:26:37 -0500 (Sun, 23 Nov 2025) EllapsedTime: 14.6 seconds RetCode: 0 Status: OK PackageFile: barcodetrackR_1.19.0.tgz PackageFileSize: 3.757 MiB