Package: bacon Version: 1.39.0 Command: /home/biocbuild/bbs-3.23-bioc/R/bin/R CMD build --keep-empty-dirs --no-resave-data bacon StartedAt: 2025-11-11 16:20:15 -0500 (Tue, 11 Nov 2025) EndedAt: 2025-11-11 16:20:56 -0500 (Tue, 11 Nov 2025) EllapsedTime: 41.0 seconds RetCode: 0 Status: OK PackageFile: bacon_1.39.0.tar.gz PackageFileSize: 1.878 MiB