Package: bacon Version: 1.39.0 Command: /Library/Frameworks/R.framework/Resources/bin/R CMD build --keep-empty-dirs --no-resave-data bacon StartedAt: 2025-11-12 15:49:45 -0500 (Wed, 12 Nov 2025) EndedAt: 2025-11-12 15:50:03 -0500 (Wed, 12 Nov 2025) EllapsedTime: 17.2 seconds RetCode: 0 Status: OK PackageFile: bacon_1.39.0.tar.gz PackageFileSize: 2.066 MiB