Package: bacon Version: 1.39.0 Maintainer: Maarten van Iterson MaintainerEmail: mviterson at gmail.com git_url: https://git.bioconductor.org/packages/bacon git_branch: devel git_last_commit: d5305cf git_last_commit_date: 2025-10-29 10:30:45 -0500 (Wed, 29 Oct 2025)