Package: awst Version: 1.19.0 Command: /Library/Frameworks/R.framework/Resources/bin/R CMD INSTALL awst StartedAt: 2025-11-19 15:15:19 -0500 (Wed, 19 Nov 2025) EndedAt: 2025-11-19 15:15:27 -0500 (Wed, 19 Nov 2025) EllapsedTime: 8.8 seconds RetCode: 0 Status: OK