Package: awst Version: 1.19.0 Command: /Library/Frameworks/R.framework/Resources/bin/R CMD build --keep-empty-dirs --no-resave-data awst StartedAt: 2025-11-18 15:50:20 -0500 (Tue, 18 Nov 2025) EndedAt: 2025-11-18 15:50:39 -0500 (Tue, 18 Nov 2025) EllapsedTime: 19.2 seconds RetCode: 0 Status: OK PackageFile: awst_1.19.0.tar.gz PackageFileSize: 445.2 KiB