Package: autonomics Version: 1.19.0 Command: /Library/Frameworks/R.framework/Resources/bin/R CMD INSTALL autonomics StartedAt: 2025-11-14 15:14:51 -0500 (Fri, 14 Nov 2025) EndedAt: 2025-11-14 15:15:08 -0500 (Fri, 14 Nov 2025) EllapsedTime: 16.8 seconds RetCode: 0 Status: OK