Package: autonomics Version: 1.19.0 Command: /Library/Frameworks/R.framework/Resources/bin/R CMD build --keep-empty-dirs --no-resave-data autonomics StartedAt: 2025-11-14 15:40:01 -0500 (Fri, 14 Nov 2025) EndedAt: 2025-11-14 15:40:48 -0500 (Fri, 14 Nov 2025) EllapsedTime: 46.5 seconds RetCode: 0 Status: OK PackageFile: autonomics_1.19.0.tar.gz PackageFileSize: 2.528 MiB