Package: autonomics Version: 1.19.0 Command: rm -rf autonomics.buildbin-libdir && mkdir autonomics.buildbin-libdir && /Users/biocbuild/BBS/utils/build-universal.sh autonomics_1.19.0.tar.gz /Library/Frameworks/R.framework/Resources/bin/R autonomics.buildbin-libdir StartedAt: 2025-11-14 23:23:08 -0500 (Fri, 14 Nov 2025) EndedAt: 2025-11-14 23:23:29 -0500 (Fri, 14 Nov 2025) EllapsedTime: 21.4 seconds RetCode: 0 Status: OK PackageFile: autonomics_1.19.0.tgz PackageFileSize: 3.602 MiB