Package: atena Version: 1.17.0 Command: /home/biocbuild/bbs-3.23-bioc/R/bin/R CMD INSTALL atena StartedAt: 2025-11-23 15:40:27 -0500 (Sun, 23 Nov 2025) EndedAt: 2025-11-23 15:41:08 -0500 (Sun, 23 Nov 2025) EllapsedTime: 40.8 seconds RetCode: 0 Status: OK