Package: atena Version: 1.17.0 Command: /Library/Frameworks/R.framework/Resources/bin/R CMD INSTALL atena StartedAt: 2025-11-16 15:20:42 -0500 (Sun, 16 Nov 2025) EndedAt: 2025-11-16 15:20:59 -0500 (Sun, 16 Nov 2025) EllapsedTime: 16.7 seconds RetCode: 0 Status: OK