Package: atena Version: 1.17.0 Command: /Library/Frameworks/R.framework/Resources/bin/R CMD build --keep-empty-dirs --no-resave-data atena StartedAt: 2025-11-14 15:39:23 -0500 (Fri, 14 Nov 2025) EndedAt: 2025-11-14 15:43:26 -0500 (Fri, 14 Nov 2025) EllapsedTime: 242.6 seconds RetCode: 0 Status: OK PackageFile: atena_1.17.0.tar.gz PackageFileSize: 1.283 MiB