Package: atena Version: 1.17.0 Command: rm -rf atena.buildbin-libdir && mkdir atena.buildbin-libdir && /Users/biocbuild/BBS/utils/build-universal.sh atena_1.17.0.tar.gz /Library/Frameworks/R.framework/Resources/bin/R atena.buildbin-libdir StartedAt: 2025-11-13 23:28:01 -0500 (Thu, 13 Nov 2025) EndedAt: 2025-11-13 23:28:21 -0500 (Thu, 13 Nov 2025) EllapsedTime: 20.4 seconds RetCode: 0 Status: OK PackageFile: atena_1.17.0.tgz PackageFileSize: 1.757 MiB