Package: atSNP Version: 1.27.0 Command: /Library/Frameworks/R.framework/Resources/bin/R CMD INSTALL atSNP StartedAt: 2025-11-14 15:27:40 -0500 (Fri, 14 Nov 2025) EndedAt: 2025-11-14 15:28:01 -0500 (Fri, 14 Nov 2025) EllapsedTime: 21.0 seconds RetCode: 0 Status: OK