Package: atSNP Version: 1.27.0 Command: rm -rf atSNP.buildbin-libdir && mkdir atSNP.buildbin-libdir && /Users/biocbuild/BBS/utils/build-universal.sh atSNP_1.27.0.tar.gz /Library/Frameworks/R.framework/Resources/bin/R atSNP.buildbin-libdir StartedAt: 2025-11-14 23:23:04 -0500 (Fri, 14 Nov 2025) EndedAt: 2025-11-14 23:23:32 -0500 (Fri, 14 Nov 2025) EllapsedTime: 27.6 seconds RetCode: 0 Status: OK PackageFile: atSNP_1.27.0.tgz PackageFileSize: 1.186 MiB