Package: artMS Version: 1.29.0 Command: /Library/Frameworks/R.framework/Resources/bin/R CMD INSTALL artMS StartedAt: 2025-11-23 15:09:23 -0500 (Sun, 23 Nov 2025) EndedAt: 2025-11-23 15:09:35 -0500 (Sun, 23 Nov 2025) EllapsedTime: 12.2 seconds RetCode: 0 Status: OK