Package: artMS Version: 1.29.0 Command: /Library/Frameworks/R.framework/Resources/bin/R CMD build --keep-empty-dirs --no-resave-data artMS StartedAt: 2025-11-23 15:39:06 -0500 (Sun, 23 Nov 2025) EndedAt: 2025-11-23 15:39:30 -0500 (Sun, 23 Nov 2025) EllapsedTime: 23.3 seconds RetCode: 0 Status: OK PackageFile: artMS_1.29.0.tar.gz PackageFileSize: 3.979 MiB