Package: artMS Version: 1.29.0 Command: rm -rf artMS.buildbin-libdir && mkdir artMS.buildbin-libdir && /Users/biocbuild/BBS/utils/build-universal.sh artMS_1.29.0.tar.gz /Library/Frameworks/R.framework/Resources/bin/R artMS.buildbin-libdir StartedAt: 2025-11-23 23:25:47 -0500 (Sun, 23 Nov 2025) EndedAt: 2025-11-23 23:26:02 -0500 (Sun, 23 Nov 2025) EllapsedTime: 15.3 seconds RetCode: 0 Status: OK PackageFile: artMS_1.29.0.tgz PackageFileSize: 3.331 MiB