Package: arrayQualityMetrics Version: 3.67.0 Command: /home/biocbuild/bbs-3.23-bioc/R/bin/R CMD build --keep-empty-dirs --no-resave-data arrayQualityMetrics StartedAt: 2025-11-14 16:13:47 -0500 (Fri, 14 Nov 2025) EndedAt: 2025-11-14 16:20:30 -0500 (Fri, 14 Nov 2025) EllapsedTime: 402.3 seconds RetCode: 0 Status: OK PackageFile: arrayQualityMetrics_3.67.0.tar.gz PackageFileSize: 597.3 KiB