Package: arrayQualityMetrics Version: 3.67.0 Command: /Library/Frameworks/R.framework/Resources/bin/R CMD check --install=check:arrayQualityMetrics.install-out.txt --library=/Library/Frameworks/R.framework/Resources/library --no-vignettes --timings arrayQualityMetrics_3.67.0.tar.gz StartedAt: 2025-11-13 18:31:56 -0500 (Thu, 13 Nov 2025) EndedAt: 2025-11-13 18:33:07 -0500 (Thu, 13 Nov 2025) EllapsedTime: 70.8 seconds RetCode: 0 Status: OK CheckDir: arrayQualityMetrics.Rcheck Warnings: 0