Package: arrayQualityMetrics Version: 3.67.0 Command: /Library/Frameworks/R.framework/Resources/bin/R CMD build --keep-empty-dirs --no-resave-data arrayQualityMetrics StartedAt: 2025-11-13 15:41:43 -0500 (Thu, 13 Nov 2025) EndedAt: 2025-11-13 15:45:46 -0500 (Thu, 13 Nov 2025) EllapsedTime: 242.7 seconds RetCode: 0 Status: OK PackageFile: arrayQualityMetrics_3.67.0.tar.gz PackageFileSize: 596.8 KiB