Package: arrayQualityMetrics Version: 3.67.0 Command: rm -rf arrayQualityMetrics.buildbin-libdir && mkdir arrayQualityMetrics.buildbin-libdir && /Users/biocbuild/BBS/utils/build-universal.sh arrayQualityMetrics_3.67.0.tar.gz /Library/Frameworks/R.framework/Resources/bin/R arrayQualityMetrics.buildbin-libdir StartedAt: 2025-11-13 23:27:46 -0500 (Thu, 13 Nov 2025) EndedAt: 2025-11-13 23:28:00 -0500 (Thu, 13 Nov 2025) EllapsedTime: 13.3 seconds RetCode: 0 Status: OK PackageFile: arrayQualityMetrics_3.67.0.tgz PackageFileSize: 558.8 KiB