Package: arrayQuality Version: 1.89.0 Command: /home/biocbuild/bbs-3.23-bioc/R/bin/R CMD INSTALL arrayQuality StartedAt: 2025-11-13 15:04:28 -0500 (Thu, 13 Nov 2025) EndedAt: 2025-11-13 15:04:46 -0500 (Thu, 13 Nov 2025) EllapsedTime: 18.1 seconds RetCode: 0 Status: OK