Package: arrayQuality Version: 1.89.0 Command: /home/biocbuild/bbs-3.23-bioc/R/bin/R CMD build --keep-empty-dirs --no-resave-data arrayQuality StartedAt: 2025-11-13 16:12:59 -0500 (Thu, 13 Nov 2025) EndedAt: 2025-11-13 16:13:08 -0500 (Thu, 13 Nov 2025) EllapsedTime: 9.0 seconds RetCode: 0 Status: OK PackageFile: arrayQuality_1.89.0.tar.gz PackageFileSize: 12.82 MiB